BEGIN:VCALENDAR
VERSION:2.0
PRODID:-//hacksw/handcal//NONSGML v1.0//EN
BEGIN:VEVENT
SUMMARY:CONCOURS TIR BEURSAULT -ARGENCES - Le 16 MAI 2026 - le 06 JUIN 2026-LE 07 JUIN 2026- LE 21JUIN 2026-LE18 JUILLET 2026- LE 02 AOUT 2026-LE 22 AOUT 2026-LE29 AOUT 2026-LE 30 AOUT 2026
UID:891fd8e7-8de2-4d99-9e88-4a721c9cfe41
DTSTART:20260516T063000Z
DTEND:20260516T150000Z
LOCATION:Localisation chemin des Ecuries 14370 MOULT
CATEGORIES:Sportif
STATUS:
DESCRIPTION:<h1 style="text-align:center;"><a
 href="https://admin.sportsregions.fr/media/uploaded/sites/20178/kcupload/files/Invitation-Beursault-Argences-2026.pdf"
 target="_blank" rel="noreferrer noopener">Mandat</a></h1>
 
 <h2
 style="text-align:center;"><u><em><strong>Le  concours et le support
 du CHAMPIONNAT DU CALVADOS </strong></em></u></h2>
 
 <h2
 style="text-align:center;">2 departs par jour: le matin a 9h00 et
 l'apres midi a 14h30</h2>
 
 <h2 style="text-align:center;">merci de
 nous faire parvenie vos inscriptions  au plus tard
 le <strong><em><u>mardi precedent la date
 choisie.</u></em></strong></h2>
 
 <h2
 style="text-align:center;"><strong><em><u>inscription par internet
 uniquement :-<span
 style="color:#2980b9;">httpd://lesarchersdargences.fr/inscriptions-beursault-2026/</span></u></em></strong></h2>
 
 <p> </p>
URL;VALUE=URI:https://lesarchersdelodon.sportsregions.fr/evenements/2026/05/16/concours-tir-beursault-argences-le-16-mai-2026-le-06-juin-2026-le-07-juin-2026-le-21juin-2026-le18-juillet-2026-le-02-aout-2026-le-22-aout-2026-le29-aout-2026-le-30-aout-2026-2442183
END:VEVENT
END:VCALENDAR
