BEGIN:VCALENDAR
VERSION:2.0
PRODID:-//hacksw/handcal//NONSGML v1.0//EN
BEGIN:VEVENT
SUMMARY:concours CAMPAGNE- 12/04/2026- CONCHES EN OUCHES
UID:c64d8f2b-9674-40a5-8386-8e78971cf5d5
DTSTART:20260512T063000Z
DTEND:20260512T150000Z
LOCATION:Localisation Le Pre Bourbeux 27190 conches en ouches
CATEGORIES:Sportif
STATUS:
DESCRIPTION:<h1 style="text-align:center;"><a
 href="https://admin.sportsregions.fr/media/uploaded/sites/20178/kcupload/files/Campagne_100526.pdf"
 target="_blank" rel="noreferrer noopener">Mandat</a></h1>
 
 <h2
 style="text-align:center;"><em><span
 style="color:#c0392b;">Pre-inscription obligatoire avant le 05 Mai
 2026</span></em></h2>
 
 <h2 style="text-align:center;">Inscription
 : <strong><em><u><span
 style="color:#2980b9;">inscription.concours.acc@gmail.com </span></u></em></strong>-Telephone
 : 06.10.63.84.83</h2>
URL;VALUE=URI:https://lesarchersdelodon.sportsregions.fr/evenements/2026/05/12/concours-campagne-12042026-conches-en-ouches-2441554
END:VEVENT
END:VCALENDAR
