BEGIN:VCALENDAR
VERSION:2.0
PRODID:-//hacksw/handcal//NONSGML v1.0//EN
BEGIN:VEVENT
SUMMARY:concours TAE du 10/05/2026- VIEUX ROUEN SUR BRESLE
UID:2455c82e-bd56-4606-8543-45863d59f03a
DTSTART:20260510T063000Z
DTEND:20260510T160000Z
LOCATION:Localisation Stade du VIeux rouen sur bresle 76 VIEUX ROUEN SUR BRESLE
CATEGORIES:Sportif
STATUS:
DESCRIPTION:<h1 style="text-align:center;"><a
 href="https://admin.sportsregions.fr/media/uploaded/sites/20178/kcupload/files/10ecf315daa5a0%20tae%20VIEUX%20ROUEN%20SUR%20BRESLE%20DU10%20MAI%202026.pdf"
 target="_blank" rel="noreferrer noopener">Mandat</a></h1>
 
 <h2
 style="text-align:center;">Inscription par Email:
 -<strong><em><u><span
 style="color:#2980b9;">grossier.fracois0978@orange.fr</span></u></em></strong></h2>
 
 <h2
 style="text-align:center;">Telephone / 06.45.70.89.11</h2>
URL;VALUE=URI:https://lesarchersdelodon.sportsregions.fr/evenements/2026/05/10/concours-tae-du-10052026-vieux-rouen-sur-bresle-2439035
END:VEVENT
END:VCALENDAR
