BEGIN:VCALENDAR
VERSION:2.0
PRODID:-//hacksw/handcal//NONSGML v1.0//EN
BEGIN:VEVENT
SUMMARY:Concours TAE -LES PIEUX du 03/05/2026
UID:32df8803-e290-4e44-8fac-0e189fd7eae3
DTSTART:20260503T061500Z
DTEND:20260503T160000Z
LOCATION:Localisation stade muniicpal des Pieux 50340 LES PEIUX
CATEGORIES:Sportif
STATUS:
DESCRIPTION:<h1 style="text-align:center;"><a
 href="https://admin.sportsregions.fr/media/uploaded/sites/20178/kcupload/files/10f036e13c2f56%20MANDAT%20LES%20PIEUX.pdf"
 target="_blank" rel="noreferrer noopener">Mandat</a></h1>
 
 <h2
 style="text-align:center;">Inscription  par
 courriel: <strong><em><u><span
 style="color:#2980b9;">archerspieusais@hotmail.com</span></u></em></strong></h2>
 
 <h2
 style="text-align:center;"><strong><em>Date limite  d'inscription 
 avant le 29 Avril 2026</em></strong></h2>
URL;VALUE=URI:https://lesarchersdelodon.sportsregions.fr/evenements/2026/05/03/concours-tae-les-pieux-du-03052026-2443692
END:VEVENT
END:VCALENDAR
